BEGIN:VCALENDAR
VERSION:2.0
PRODID:-//Luc Baghdassarian - ECPv6.15.18//NONSGML v1.0//EN
CALSCALE:GREGORIAN
METHOD:PUBLISH
X-WR-CALNAME:Luc Baghdassarian
X-ORIGINAL-URL:https://www.lucbaghdassarian.com
X-WR-CALDESC:Évènements pour Luc Baghdassarian
REFRESH-INTERVAL;VALUE=DURATION:PT1H
X-Robots-Tag:noindex
X-PUBLISHED-TTL:PT1H
BEGIN:VTIMEZONE
TZID:Europe/Zurich
BEGIN:DAYLIGHT
TZOFFSETFROM:+0100
TZOFFSETTO:+0200
TZNAME:CEST
DTSTART:20250330T010000
END:DAYLIGHT
BEGIN:STANDARD
TZOFFSETFROM:+0200
TZOFFSETTO:+0100
TZNAME:CET
DTSTART:20251026T010000
END:STANDARD
BEGIN:DAYLIGHT
TZOFFSETFROM:+0100
TZOFFSETTO:+0200
TZNAME:CEST
DTSTART:20260329T010000
END:DAYLIGHT
BEGIN:STANDARD
TZOFFSETFROM:+0200
TZOFFSETTO:+0100
TZNAME:CET
DTSTART:20261025T010000
END:STANDARD
BEGIN:DAYLIGHT
TZOFFSETFROM:+0100
TZOFFSETTO:+0200
TZNAME:CEST
DTSTART:20270328T010000
END:DAYLIGHT
BEGIN:STANDARD
TZOFFSETFROM:+0200
TZOFFSETTO:+0100
TZNAME:CET
DTSTART:20271031T010000
END:STANDARD
BEGIN:DAYLIGHT
TZOFFSETFROM:+0100
TZOFFSETTO:+0200
TZNAME:CEST
DTSTART:20280326T010000
END:DAYLIGHT
BEGIN:STANDARD
TZOFFSETFROM:+0200
TZOFFSETTO:+0100
TZNAME:CET
DTSTART:20281029T010000
END:STANDARD
END:VTIMEZONE
BEGIN:VEVENT
DTSTART;TZID=Europe/Zurich:20260507T200000
DTEND;TZID=Europe/Zurich:20260507T213000
DTSTAMP:20260424T142035
CREATED:20250513T103005Z
LAST-MODIFIED:20260220T132900Z
UID:29832-1778184000-1778189400@www.lucbaghdassarian.com
SUMMARY:OCGL / CSV / DE MOZART À RAVEL / LAUSANNE
DESCRIPTION:Orchestre des Collèges et Gymnases Lausannois (OCGL ) et le Choeur Symphonique de Vevey (CSV) \nAu programme : \n\nHAYDN 1er mvt 104\nMOZART 1er mvt Jupiter\nSCHUBERT 1er mvt Inachevée\nRIMSKI-KORSAKOV 2ème mvt 1ère symphonie\nRAVEL Pavane pour une infante défunte\nMAHLER 3ème mvt 1ère symphonie\nFAURÉ Requiem Libera me et in Paradisum
URL:https://www.lucbaghdassarian.com/event/ocgl-de-mozart-a-ravel-lausanne-2/
LOCATION:Salle Paderewski – Lausanne
END:VEVENT
BEGIN:VEVENT
DTSTART;TZID=Europe/Zurich:20260531T170000
DTEND;TZID=Europe/Zurich:20260531T183000
DTSTAMP:20260424T142035
CREATED:20250706T184325Z
LAST-MODIFIED:20260220T120939Z
UID:29931-1780246800-1780252200@www.lucbaghdassarian.com
SUMMARY:DS QUARTET / MAHLER / CRÊT-BÉRARD /
DESCRIPTION:
URL:https://www.lucbaghdassarian.com/event/ds-trio-cret-berard/
LOCATION:Puidoux\, Fondation Crêt Bérard\, Chemin de la Chapelle 19 a
END:VEVENT
BEGIN:VEVENT
DTSTART;TZID=Europe/Zurich:20260607T190000
DTEND;TZID=Europe/Zurich:20260607T200000
DTSTAMP:20260424T142035
CREATED:20260211T135909Z
LAST-MODIFIED:20260220T164201Z
UID:30043-1780858800-1780862400@www.lucbaghdassarian.com
SUMMARY:EVO / DS QUARTET / YVERDON /
DESCRIPTION:Concert de l’Ensemble vocal Ottavio (EVO) et du DS Quartet \nAu programme : \n\nMichael GLINKA « Drei russische Lieder »\nPauline VIARDOT « Die Sterne »\nGustav MAHLER « Piano Quartet in a minor »\nFelix MENDELSSOHN « Christus »\n\nEnsemble vocal Ottavio \nSoprani : Fabienne Viredaz et Dorothea Christ Alti : Aurélia Grünberg et Catherine Cruchet  Ténors :  Éric Cogniat et Jean-Numa Grau Basses : Jacques Gumy et Pierre Pantillon. \nDS Quartet \nFlorence von Burg violoniste\, altiste et pianiste – Dor Sperber altiste et violoniste – Jordan Gregoris violoncelliste – Luc Baghdassarian chef d’orchestre et pianiste. \nCollecte à la sortie
URL:https://www.lucbaghdassarian.com/event/yverdon-mendelssohn-mahler-ds-quartet-evo/
LOCATION:TEMPLE D’YVERDON
END:VEVENT
BEGIN:VEVENT
DTSTART;TZID=Europe/Zurich:20260619T200000
DTEND;TZID=Europe/Zurich:20260619T213000
DTSTAMP:20260424T142035
CREATED:20260129T223552Z
LAST-MODIFIED:20260220T163746Z
UID:30034-1781899200-1781904600@www.lucbaghdassarian.com
SUMMARY:OCGL / CSV / DE MOZART À RAVEL / LAUSANNE
DESCRIPTION:Orchestre des Collèges et Gymnases Lausannois (OCGL ) et le Choeur Symphonique de Vevey (CSV) \nAu programme : \n\nHAYDN – 1er mvt 104\nMOZART – 1er mvt Jupiter\nSCHUBERT-  1er mvt Inachevée\nRIMSKI-KORSAKOV – 2ème mvt 1ère symphonie\nRAVEL –  Pavane pour une infante défunte\nMAHLER – 3ème mvt 1ère symphonie\nFAURÉ – Requiem Libera me et in Paradisum
URL:https://www.lucbaghdassarian.com/event/ocgl-csv-lausanne/
LOCATION:EGLISE ST-JACQUES DE LAUSANNE\, AVENUE DU LEMAN 26\, LAUSANNE\, VAUD\, 1005\, Suisse
END:VEVENT
BEGIN:VEVENT
DTSTART;VALUE=DATE:20260621
DTEND;VALUE=DATE:20260622
DTSTAMP:20260424T142035
CREATED:20260220T123833Z
LAST-MODIFIED:20260220T124312Z
UID:30133-1782000000-1782086399@www.lucbaghdassarian.com
SUMMARY:2 CONCERTS EN ATTENTE DE CONFIRMATION
DESCRIPTION:Programmation surprise…
URL:https://www.lucbaghdassarian.com/event/concerts-en-attente-de-confirmation/
END:VEVENT
BEGIN:VEVENT
DTSTART;TZID=Europe/Zurich:20260912T190000
DTEND;TZID=Europe/Zurich:20260912T203000
DTSTAMP:20260424T142035
CREATED:20260218T102637Z
LAST-MODIFIED:20260220T155656Z
UID:30077-1789239600-1789245000@www.lucbaghdassarian.com
SUMMARY:DS TRIO/BLONAY
DESCRIPTION:Programme à déterminer
URL:https://www.lucbaghdassarian.com/event/ds-trio-blonay/
LOCATION:CHAPELLE CATHOLIQUE SAINTE-CROIX\, BLONAY\, VAUD\, 1807
END:VEVENT
BEGIN:VEVENT
DTSTART;TZID=Europe/Zurich:20261011T180000
DTEND;TZID=Europe/Zurich:20261011T193000
DTSTAMP:20260424T142035
CREATED:20251104T210638Z
LAST-MODIFIED:20260220T133439Z
UID:29976-1791741600-1791747000@www.lucbaghdassarian.com
SUMMARY:HAYDN / MOZART / SCHOSTAKOVITCH / FESTIVAL LE BOIS QUI CHANTE / CHÂTEAU-D'OEX
DESCRIPTION:Orchestre du Festival \nAu programme : \n\nHaydn – Symphonie de l’Ours mvt 4\nMozart – Ouverture des Noces de Figaro\nSchostakovitch – 11ème Symphonie mvt 1
URL:https://www.lucbaghdassarian.com/event/festival-bois-qui-chante-2026/
LOCATION:CHÂTEAU-D’OEX GRANDE SALLE
END:VEVENT
BEGIN:VEVENT
DTSTART;TZID=Europe/Zurich:20261115T170000
DTEND;TZID=Europe/Zurich:20261115T183000
DTSTAMP:20260424T142035
CREATED:20251104T210829Z
LAST-MODIFIED:20260214T164753Z
UID:29978-1794762000-1794767400@www.lucbaghdassarian.com
SUMMARY:ORS / OVS / RIMSKI-KORSAKOV / VEVEY
DESCRIPTION:RIMSKI-KORSAKOV – SHEHERAZADE
URL:https://www.lucbaghdassarian.com/event/ors-ovs-vevey/
LOCATION:EGLISE ST-MARTIN VEVEY
END:VEVENT
BEGIN:VEVENT
DTSTART;TZID=Europe/Zurich:20261122T170000
DTEND;TZID=Europe/Zurich:20261122T183000
DTSTAMP:20260424T142035
CREATED:20251104T205429Z
LAST-MODIFIED:20251104T205835Z
UID:29968-1795366800-1795372200@www.lucbaghdassarian.com
SUMMARY:MENDELSSOHN PSAUMES / CHOEUR A CAPPELLA / OVS / YVERDON
DESCRIPTION:MENDELSSOHN PSAUMES 95 / 114 / 115 // CHOEUR A  CAPPELLA D’YVERDON / ORCHESTRE DES VARIATIONS SYMPHONIQUES
URL:https://www.lucbaghdassarian.com/event/yverdon-psaumes-mendelssohn-choeur-a-cappella-ovs/
LOCATION:TEMPLE D’YVERDON
END:VEVENT
BEGIN:VEVENT
DTSTART;TZID=Europe/Zurich:20261206T170000
DTEND;TZID=Europe/Zurich:20261206T183000
DTSTAMP:20260424T142035
CREATED:20251104T210338Z
LAST-MODIFIED:20260220T155422Z
UID:29974-1796576400-1796581800@www.lucbaghdassarian.com
SUMMARY:RAMÍREZ / PUCCINI / CSV / OVS / VEVEY
DESCRIPTION:PUCCINI – GLORIA\, version piano / RAMÍREZ – MISA CRIOLLA // CHOEUR SYMPHONIQUE DE VEVEY / OVS
URL:https://www.lucbaghdassarian.com/event/ramirez-rutter-csv-ovs-vevey/
LOCATION:EGLISE ST-MARTIN VEVEY
END:VEVENT
BEGIN:VEVENT
DTSTART;TZID=Europe/Zurich:20270204T143000
DTEND;TZID=Europe/Zurich:20270204T160000
DTSTAMP:20260424T142035
CREATED:20260217T190217Z
LAST-MODIFIED:20260220T123603Z
UID:30068-1801751400-1801756800@www.lucbaghdassarian.com
SUMMARY:ORBE / CONNAISSANCE 3 / CONFÉRENCE /
DESCRIPTION:Sujet à déterminer…
URL:https://www.lucbaghdassarian.com/event/orbe-connaissance-3-conference/
LOCATION:ORBE\, ORBE\, VAUD\, Switzerland
END:VEVENT
BEGIN:VEVENT
DTSTART;TZID=Europe/Zurich:20270311T200000
DTEND;TZID=Europe/Zurich:20270311T213000
DTSTAMP:20260424T142035
CREATED:20260219T120626Z
LAST-MODIFIED:20260220T123916Z
UID:30101-1804795200-1804800600@www.lucbaghdassarian.com
SUMMARY:CONCERT / PROGRAMME ET LIEU À DETERMINER /
DESCRIPTION:
URL:https://www.lucbaghdassarian.com/event/concert-programme-a-determiner/
END:VEVENT
BEGIN:VEVENT
DTSTART;TZID=Europe/Zurich:20270324T143000
DTEND;TZID=Europe/Zurich:20270324T160000
DTSTAMP:20260424T142035
CREATED:20260217T190406Z
LAST-MODIFIED:20260220T122516Z
UID:30071-1805898600-1805904000@www.lucbaghdassarian.com
SUMMARY:PAYERNE / CONNAISSANCE 3 / CONFÉRENCE / BEETHOVEN L'UNIQUE !
DESCRIPTION:Conférence – BEETHOVEN – L’Unique!
URL:https://www.lucbaghdassarian.com/event/payerne-connaissance-3-conference-beethoven/
LOCATION:PAYERNE
END:VEVENT
BEGIN:VEVENT
DTSTART;TZID=Europe/Zurich:20270515T200000
DTEND;TZID=Europe/Zurich:20270515T220000
DTSTAMP:20260424T142035
CREATED:20260220T134032Z
LAST-MODIFIED:20260220T134032Z
UID:30149-1810411200-1810418400@www.lucbaghdassarian.com
SUMMARY:Concert à confirmer
DESCRIPTION:
URL:https://www.lucbaghdassarian.com/event/concert-a-confirmer-2/
END:VEVENT
BEGIN:VEVENT
DTSTART;TZID=Europe/Zurich:20270520T200000
DTEND;TZID=Europe/Zurich:20270520T213000
DTSTAMP:20260424T142035
CREATED:20260220T133923Z
LAST-MODIFIED:20260220T134148Z
UID:30147-1810843200-1810848600@www.lucbaghdassarian.com
SUMMARY:Concert à confirmer
DESCRIPTION:
URL:https://www.lucbaghdassarian.com/event/concert-a-confirmer/
END:VEVENT
BEGIN:VEVENT
DTSTART;TZID=Europe/Zurich:20270530T170000
DTEND;TZID=Europe/Zurich:20270530T183000
DTSTAMP:20260424T142035
CREATED:20251104T211132Z
LAST-MODIFIED:20251104T211132Z
UID:29980-1811696400-1811701800@www.lucbaghdassarian.com
SUMMARY:ORS / OVS / VEVEY /
DESCRIPTION:PROGRAMME A DETERMINER
URL:https://www.lucbaghdassarian.com/event/ors-ovs-vevey-2/
LOCATION:SALLE DEL CASTILLO\, PLACE DU MARCHE\, VEVEY\, VAUD\, 1800\, Suisse
END:VEVENT
BEGIN:VEVENT
DTSTART;TZID=Europe/Zurich:20271105T200000
DTEND;TZID=Europe/Zurich:20271105T220000
DTSTAMP:20260424T142035
CREATED:20260220T134313Z
LAST-MODIFIED:20260220T134339Z
UID:30151-1825444800-1825452000@www.lucbaghdassarian.com
SUMMARY:Concert à confirmer
DESCRIPTION:
URL:https://www.lucbaghdassarian.com/event/concert-a-confirmer-3/
END:VEVENT
END:VCALENDAR